BEGIN:VCALENDAR
VERSION:2.0
PRODID:-//Fahrschule Grand - ECPv6.0.13.1//NONSGML v1.0//EN
CALSCALE:GREGORIAN
METHOD:PUBLISH
X-WR-CALNAME:Fahrschule Grand
X-ORIGINAL-URL:https://fahrschulegrand.com
X-WR-CALDESC:Veranstaltungen für Fahrschule Grand
REFRESH-INTERVAL;VALUE=DURATION:PT1H
X-Robots-Tag:noindex
X-PUBLISHED-TTL:PT1H
BEGIN:VTIMEZONE
TZID:Europe/Vienna
BEGIN:DAYLIGHT
TZOFFSETFROM:+0100
TZOFFSETTO:+0200
TZNAME:CEST
DTSTART:20260329T010000
END:DAYLIGHT
BEGIN:STANDARD
TZOFFSETFROM:+0200
TZOFFSETTO:+0100
TZNAME:CET
DTSTART:20261025T010000
END:STANDARD
END:VTIMEZONE
BEGIN:VEVENT
DTSTART;TZID=Europe/Vienna:20260430T163000
DTEND;TZID=Europe/Vienna:20260430T200000
DTSTAMP:20260421T103045
CREATED:20260203T153408Z
LAST-MODIFIED:20260203T153408Z
UID:10001056-1777566600-1777579200@fahrschulegrand.com
SUMMARY:S4 - B-Spezifische Kurse 4
DESCRIPTION:
URL:https://fahrschulegrand.com/event/s4-b-spezifische-kurse-4-11/
CATEGORIES:S4 - B-Spezifische Kurse 4
END:VEVENT
BEGIN:VEVENT
DTSTART;TZID=Europe/Vienna:20260508T150000
DTEND;TZID=Europe/Vienna:20260508T210000
DTSTAMP:20260421T103045
CREATED:20260325T142024Z
LAST-MODIFIED:20260325T142024Z
UID:10001075-1778252400-1778274000@fahrschulegrand.com
SUMMARY:A-Theoriekurs
DESCRIPTION:
URL:https://fahrschulegrand.com/event/a-theoriekurs-4/
CATEGORIES:A-Theoriekurs
END:VEVENT
BEGIN:VEVENT
DTSTART;TZID=Europe/Vienna:20260509T080000
DTEND;TZID=Europe/Vienna:20260509T140000
DTSTAMP:20260421T103045
CREATED:20260306T170516Z
LAST-MODIFIED:20260306T170516Z
UID:10001072-1778313600-1778335200@fahrschulegrand.com
SUMMARY:1. Hilfe Kurs
DESCRIPTION:
URL:https://fahrschulegrand.com/event/1-hilfe-kurs-8/
CATEGORIES:1. Hilfe Kurs
END:VEVENT
BEGIN:VEVENT
DTSTART;TZID=Europe/Vienna:20260511T163000
DTEND;TZID=Europe/Vienna:20260511T180000
DTSTAMP:20260421T103045
CREATED:20260306T164723Z
LAST-MODIFIED:20260306T164723Z
UID:10001058-1778517000-1778522400@fahrschulegrand.com
SUMMARY:V1 - Verkehrsvorschriften 1
DESCRIPTION:
URL:https://fahrschulegrand.com/event/v1-verkehrsvorschriften-1-11/
CATEGORIES:V1 - Verkehrsvorschriften 1
END:VEVENT
BEGIN:VEVENT
DTSTART;TZID=Europe/Vienna:20260511T183000
DTEND;TZID=Europe/Vienna:20260511T200000
DTSTAMP:20260421T103045
CREATED:20260306T164753Z
LAST-MODIFIED:20260306T164753Z
UID:10001059-1778524200-1778529600@fahrschulegrand.com
SUMMARY:G1 - Gefahrenlehre 1
DESCRIPTION:
URL:https://fahrschulegrand.com/event/g1-gefahrenlehre-1-11/
CATEGORIES:G1 - Gefahrenlehre 1
END:VEVENT
BEGIN:VEVENT
DTSTART;TZID=Europe/Vienna:20260512T163000
DTEND;TZID=Europe/Vienna:20260512T180000
DTSTAMP:20260421T103045
CREATED:20260306T164831Z
LAST-MODIFIED:20260306T164831Z
UID:10001060-1778603400-1778608800@fahrschulegrand.com
SUMMARY:V2 - Verkehrsvorschriften 2
DESCRIPTION:
URL:https://fahrschulegrand.com/event/v2-verkehrsvorschriften-2-11/
CATEGORIES:V2 - Verkehrsvorschriften 2
END:VEVENT
BEGIN:VEVENT
DTSTART;TZID=Europe/Vienna:20260512T183000
DTEND;TZID=Europe/Vienna:20260512T200000
DTSTAMP:20260421T103045
CREATED:20260306T164904Z
LAST-MODIFIED:20260306T164904Z
UID:10001061-1778610600-1778616000@fahrschulegrand.com
SUMMARY:G2 – Gefahrenlehre 2
DESCRIPTION:
URL:https://fahrschulegrand.com/event/g2-gefahrenlehre-2-11/
CATEGORIES:G2 – Gefahrenlehre 2
END:VEVENT
BEGIN:VEVENT
DTSTART;TZID=Europe/Vienna:20260513T163000
DTEND;TZID=Europe/Vienna:20260513T180000
DTSTAMP:20260421T103045
CREATED:20260306T164930Z
LAST-MODIFIED:20260306T164930Z
UID:10001062-1778689800-1778695200@fahrschulegrand.com
SUMMARY:V3 - Verkehrsvorschriften 3
DESCRIPTION:
URL:https://fahrschulegrand.com/event/v3-verkehrsvorschriften-3-12/
CATEGORIES:V3 - Verkehrsvorschriften 3
END:VEVENT
BEGIN:VEVENT
DTSTART;TZID=Europe/Vienna:20260513T183000
DTEND;TZID=Europe/Vienna:20260513T200000
DTSTAMP:20260421T103045
CREATED:20260306T165128Z
LAST-MODIFIED:20260306T165128Z
UID:10001063-1778697000-1778702400@fahrschulegrand.com
SUMMARY:G3 – Gefahrenlehre 3
DESCRIPTION:
URL:https://fahrschulegrand.com/event/g3-gefahrenlehre-3-12/
CATEGORIES:G3 – Gefahrenlehre 3
END:VEVENT
BEGIN:VEVENT
DTSTART;TZID=Europe/Vienna:20260515T163000
DTEND;TZID=Europe/Vienna:20260515T200000
DTSTAMP:20260421T103045
CREATED:20260306T165233Z
LAST-MODIFIED:20260306T165233Z
UID:10001064-1778862600-1778875200@fahrschulegrand.com
SUMMARY:S1 - B-Spezifische Kurse 1
DESCRIPTION:
URL:https://fahrschulegrand.com/event/s1-b-spezifische-kurse-1-12/
CATEGORIES:S1 - B-Spezifische Kurse 1
END:VEVENT
BEGIN:VEVENT
DTSTART;TZID=Europe/Vienna:20260518T163000
DTEND;TZID=Europe/Vienna:20260518T180000
DTSTAMP:20260421T103045
CREATED:20260306T170135Z
LAST-MODIFIED:20260306T170135Z
UID:10001065-1779121800-1779127200@fahrschulegrand.com
SUMMARY:V4 - Verkehrsvorschriften 4
DESCRIPTION:
URL:https://fahrschulegrand.com/event/v4-verkehrsvorschriften-4-12/
CATEGORIES:V4 - Verkehrsvorschriften 4
END:VEVENT
BEGIN:VEVENT
DTSTART;TZID=Europe/Vienna:20260518T183000
DTEND;TZID=Europe/Vienna:20260518T200000
DTSTAMP:20260421T103045
CREATED:20260306T170157Z
LAST-MODIFIED:20260306T170157Z
UID:10001066-1779129000-1779134400@fahrschulegrand.com
SUMMARY:G4 – Gefahrenlehre 4
DESCRIPTION:
URL:https://fahrschulegrand.com/event/g4-gefahrenlehre-4-12/
CATEGORIES:G4 – Gefahrenlehre 4
END:VEVENT
BEGIN:VEVENT
DTSTART;TZID=Europe/Vienna:20260519T163000
DTEND;TZID=Europe/Vienna:20260519T180000
DTSTAMP:20260421T103045
CREATED:20260306T170256Z
LAST-MODIFIED:20260306T170256Z
UID:10001067-1779208200-1779213600@fahrschulegrand.com
SUMMARY:V5 - Verkehrsvorschriften 5
DESCRIPTION:
URL:https://fahrschulegrand.com/event/v5-verkehrsvorschriften-5-12/
CATEGORIES:V5 - Verkehrsvorschriften 5
END:VEVENT
BEGIN:VEVENT
DTSTART;TZID=Europe/Vienna:20260519T183000
DTEND;TZID=Europe/Vienna:20260519T200000
DTSTAMP:20260421T103045
CREATED:20260306T170325Z
LAST-MODIFIED:20260306T170325Z
UID:10001068-1779215400-1779220800@fahrschulegrand.com
SUMMARY:G5 – Gefahrenlehre 5
DESCRIPTION:
URL:https://fahrschulegrand.com/event/g5-gefahrenlehre-5-12/
CATEGORIES:G5 – Gefahrenlehre 5
END:VEVENT
BEGIN:VEVENT
DTSTART;TZID=Europe/Vienna:20260520T163000
DTEND;TZID=Europe/Vienna:20260520T180000
DTSTAMP:20260421T103045
CREATED:20260306T170356Z
LAST-MODIFIED:20260306T170356Z
UID:10001069-1779294600-1779300000@fahrschulegrand.com
SUMMARY:S3 - B-Spezifische Kurse 3
DESCRIPTION:
URL:https://fahrschulegrand.com/event/s3-b-spezifische-kurse-3-12/
CATEGORIES:S3 - B-Spezifische Kurse 3
END:VEVENT
BEGIN:VEVENT
DTSTART;TZID=Europe/Vienna:20260520T183000
DTEND;TZID=Europe/Vienna:20260520T200000
DTSTAMP:20260421T103045
CREATED:20260306T170418Z
LAST-MODIFIED:20260306T170418Z
UID:10001070-1779301800-1779307200@fahrschulegrand.com
SUMMARY:S2 - B-Spezifische Kurse 2
DESCRIPTION:
URL:https://fahrschulegrand.com/event/s2-b-spezifische-kurse-2-12/
CATEGORIES:S2 - B-Spezifische Kurse 2
END:VEVENT
BEGIN:VEVENT
DTSTART;TZID=Europe/Vienna:20260521T163000
DTEND;TZID=Europe/Vienna:20260521T200000
DTSTAMP:20260421T103045
CREATED:20260306T170441Z
LAST-MODIFIED:20260306T170441Z
UID:10001071-1779381000-1779393600@fahrschulegrand.com
SUMMARY:S4 - B-Spezifische Kurse 4
DESCRIPTION:
URL:https://fahrschulegrand.com/event/s4-b-spezifische-kurse-4-12/
CATEGORIES:S4 - B-Spezifische Kurse 4
END:VEVENT
BEGIN:VEVENT
DTSTART;TZID=Europe/Vienna:20260529T150000
DTEND;TZID=Europe/Vienna:20260529T210000
DTSTAMP:20260421T103045
CREATED:20260325T142107Z
LAST-MODIFIED:20260325T142107Z
UID:10001076-1780066800-1780088400@fahrschulegrand.com
SUMMARY:A-Theoriekurs
DESCRIPTION:
URL:https://fahrschulegrand.com/event/a-theoriekurs-5/
CATEGORIES:A-Theoriekurs
END:VEVENT
BEGIN:VEVENT
DTSTART;TZID=Europe/Vienna:20260601T163000
DTEND;TZID=Europe/Vienna:20260601T180000
DTSTAMP:20260421T103045
CREATED:20260402T122018Z
LAST-MODIFIED:20260402T122018Z
UID:10001077-1780331400-1780336800@fahrschulegrand.com
SUMMARY:G1 - Gefahrenlehre 1
DESCRIPTION:
URL:https://fahrschulegrand.com/event/g1-gefahrenlehre-1/
CATEGORIES:G1 - Gefahrenlehre 1
END:VEVENT
BEGIN:VEVENT
DTSTART;TZID=Europe/Vienna:20260601T183000
DTEND;TZID=Europe/Vienna:20260601T200000
DTSTAMP:20260421T103045
CREATED:20260402T122042Z
LAST-MODIFIED:20260402T122042Z
UID:10001078-1780338600-1780344000@fahrschulegrand.com
SUMMARY:V1 - Verkehrsvorschriften 1
DESCRIPTION:
URL:https://fahrschulegrand.com/event/v1-verkehrsvorschriften-1/
CATEGORIES:V1 - Verkehrsvorschriften 1
END:VEVENT
BEGIN:VEVENT
DTSTART;TZID=Europe/Vienna:20260602T163000
DTEND;TZID=Europe/Vienna:20260602T180000
DTSTAMP:20260421T103045
CREATED:20260402T122105Z
LAST-MODIFIED:20260402T122105Z
UID:10001079-1780417800-1780423200@fahrschulegrand.com
SUMMARY:G2 – Gefahrenlehre 2
DESCRIPTION:
URL:https://fahrschulegrand.com/event/g2-gefahrenlehre-2/
CATEGORIES:G2 – Gefahrenlehre 2
END:VEVENT
BEGIN:VEVENT
DTSTART;TZID=Europe/Vienna:20260602T183000
DTEND;TZID=Europe/Vienna:20260602T200000
DTSTAMP:20260421T103045
CREATED:20260402T122128Z
LAST-MODIFIED:20260402T122128Z
UID:10001080-1780425000-1780430400@fahrschulegrand.com
SUMMARY:V2 - Verkehrsvorschriften 2
DESCRIPTION:
URL:https://fahrschulegrand.com/event/v2-verkehrsvorschriften-2/
CATEGORIES:V2 - Verkehrsvorschriften 2
END:VEVENT
BEGIN:VEVENT
DTSTART;TZID=Europe/Vienna:20260603T163000
DTEND;TZID=Europe/Vienna:20260603T180000
DTSTAMP:20260421T103045
CREATED:20260402T122151Z
LAST-MODIFIED:20260402T122151Z
UID:10001081-1780504200-1780509600@fahrschulegrand.com
SUMMARY:G3 – Gefahrenlehre 3
DESCRIPTION:
URL:https://fahrschulegrand.com/event/g3-gefahrenlehre-3/
CATEGORIES:G3 – Gefahrenlehre 3
END:VEVENT
BEGIN:VEVENT
DTSTART;TZID=Europe/Vienna:20260603T183000
DTEND;TZID=Europe/Vienna:20260603T200000
DTSTAMP:20260421T103045
CREATED:20260402T123034Z
LAST-MODIFIED:20260402T123034Z
UID:10001082-1780511400-1780516800@fahrschulegrand.com
SUMMARY:V3 - Verkehrsvorschriften 3
DESCRIPTION:
URL:https://fahrschulegrand.com/event/v3-verkehrsvorschriften-3/
CATEGORIES:V3 - Verkehrsvorschriften 3
END:VEVENT
BEGIN:VEVENT
DTSTART;TZID=Europe/Vienna:20260605T163000
DTEND;TZID=Europe/Vienna:20260605T200000
DTSTAMP:20260421T103045
CREATED:20260402T123231Z
LAST-MODIFIED:20260402T123231Z
UID:10001083-1780677000-1780689600@fahrschulegrand.com
SUMMARY:S1 - B-Spezifische Kurse 1
DESCRIPTION:
URL:https://fahrschulegrand.com/event/s1-b-spezifische-kurse-1/
CATEGORIES:S1 - B-Spezifische Kurse 1
END:VEVENT
BEGIN:VEVENT
DTSTART;TZID=Europe/Vienna:20260606T080000
DTEND;TZID=Europe/Vienna:20260606T140000
DTSTAMP:20260421T103045
CREATED:20260402T134303Z
LAST-MODIFIED:20260402T134303Z
UID:10001102-1780732800-1780754400@fahrschulegrand.com
SUMMARY:1. Hilfe Kurs
DESCRIPTION:
URL:https://fahrschulegrand.com/event/1-hilfe-kurs/
CATEGORIES:1. Hilfe Kurs
END:VEVENT
BEGIN:VEVENT
DTSTART;TZID=Europe/Vienna:20260608T163000
DTEND;TZID=Europe/Vienna:20260608T180000
DTSTAMP:20260421T103045
CREATED:20260402T123259Z
LAST-MODIFIED:20260402T123259Z
UID:10001084-1780936200-1780941600@fahrschulegrand.com
SUMMARY:G4 – Gefahrenlehre 4
DESCRIPTION:
URL:https://fahrschulegrand.com/event/g4-gefahrenlehre-4/
CATEGORIES:G4 – Gefahrenlehre 4
END:VEVENT
BEGIN:VEVENT
DTSTART;TZID=Europe/Vienna:20260608T183000
DTEND;TZID=Europe/Vienna:20260608T200000
DTSTAMP:20260421T103045
CREATED:20260402T123329Z
LAST-MODIFIED:20260402T123329Z
UID:10001085-1780943400-1780948800@fahrschulegrand.com
SUMMARY:V4 - Verkehrsvorschriften 4
DESCRIPTION:
URL:https://fahrschulegrand.com/event/v4-verkehrsvorschriften-4/
CATEGORIES:V4 - Verkehrsvorschriften 4
END:VEVENT
BEGIN:VEVENT
DTSTART;TZID=Europe/Vienna:20260609T163000
DTEND;TZID=Europe/Vienna:20260609T180000
DTSTAMP:20260421T103045
CREATED:20260402T123408Z
LAST-MODIFIED:20260402T123408Z
UID:10001086-1781022600-1781028000@fahrschulegrand.com
SUMMARY:G5 – Gefahrenlehre 5
DESCRIPTION:
URL:https://fahrschulegrand.com/event/g5-gefahrenlehre-5/
CATEGORIES:G5 – Gefahrenlehre 5
END:VEVENT
BEGIN:VEVENT
DTSTART;TZID=Europe/Vienna:20260609T183000
DTEND;TZID=Europe/Vienna:20260609T200000
DTSTAMP:20260421T103045
CREATED:20260402T123435Z
LAST-MODIFIED:20260402T123435Z
UID:10001087-1781029800-1781035200@fahrschulegrand.com
SUMMARY:V5 - Verkehrsvorschriften 5
DESCRIPTION:
URL:https://fahrschulegrand.com/event/v5-verkehrsvorschriften-5/
CATEGORIES:V5 - Verkehrsvorschriften 5
END:VEVENT
END:VCALENDAR